BEGIN:VCALENDAR
VERSION:2.0
PRODID:DPCALENDAR
CALSCALE:GREGORIAN
X-WR-TIMEZONE:UTC
BEGIN:VEVENT
DTSTART:20260518T183000Z
DTEND:20260518T210000Z
UID:cc4a182f1907a041b635f72a77e8eff8
SUMMARY:G-ABC Messen - Probennahmen mit Messzentrale
DTSTAMP:20141122T203510Z
DESCRIPTION:
X-ALT-DESC;FMTTYPE=text/html:
X-ACCESS:1
X-MODIFIED:20251221T152723Z
X-HITS:208
X-URL:
X-COLOR:E8D900
END:VEVENT
END:VCALENDAR