BEGIN:VCALENDAR
VERSION:2.0
PRODID:DPCALENDAR
CALSCALE:GREGORIAN
X-WR-TIMEZONE:UTC
BEGIN:VEVENT
DTSTART:20240617T183000Z
DTEND:20240617T210000Z
UID:051085bd9c64dfab68449562ceee270e
SUMMARY:Einsatzübung
DTSTAMP:20141122T203510Z
DESCRIPTION:
X-ALT-DESC;FMTTYPE=text/html:
X-ACCESS:1
X-MODIFIED:20231218T151223Z
X-HITS:422
X-URL:
X-COLOR:26E810
END:VEVENT
END:VCALENDAR