BEGIN:VCALENDAR
VERSION:2.0
PRODID:DPCALENDAR
CALSCALE:GREGORIAN
X-WR-TIMEZONE:UTC
BEGIN:VEVENT
DTSTART:20201012T183000Z
DTEND:20201012T190000Z
UID:dc2cd11aafcb2ecf20810b4e090eb0fd
SUMMARY:Gruppe 1 Atemschutznotfalltraining
DTSTAMP:20141122T203510Z
DESCRIPTION:
X-ALT-DESC;FMTTYPE=text/html:
X-ACCESS:1
X-MODIFIED:20200716T191800Z
X-HITS:364
X-URL:
X-COLOR:
END:VEVENT
END:VCALENDAR